BEGIN:VCALENDAR
VERSION:2.0
PRODID:-//Royal Canadian Legion - Branch 34 Orillia - ECPv6.15.17//NONSGML v1.0//EN
CALSCALE:GREGORIAN
METHOD:PUBLISH
X-WR-CALNAME:Royal Canadian Legion - Branch 34 Orillia
X-ORIGINAL-URL:https://orillialegion.com
X-WR-CALDESC:Events for Royal Canadian Legion - Branch 34 Orillia
REFRESH-INTERVAL;VALUE=DURATION:PT1H
X-Robots-Tag:noindex
X-PUBLISHED-TTL:PT1H
BEGIN:VTIMEZONE
TZID:UTC
BEGIN:STANDARD
TZOFFSETFROM:+0000
TZOFFSETTO:+0000
TZNAME:UTC
DTSTART:20160101T000000
END:STANDARD
END:VTIMEZONE
BEGIN:VEVENT
DTSTART;TZID=UTC:20180817T180000
DTEND;TZID=UTC:20180817T230000
DTSTAMP:20260420T003252
CREATED:20180809T191732Z
LAST-MODIFIED:20180809T192059Z
UID:2441-1534528800-1534546800@orillialegion.com
SUMMARY:Dinner & A Show with DRAG QUEENZ
DESCRIPTION:Tickets available at the branch 705-325-8442 \nDoors Open at 6:00pm \nDinner @ 6:30pm \nShow $ Frolics 7:00pm onward!
URL:https://orillialegion.com/event/dinner-a-show-with-drag-queenz/
LOCATION:Royal Canadian Legion\, 215 Mississaga Street East\, Orillia\, L3V 1W2\, Canada
ATTACH;FMTTYPE=image/jpeg:https://orillialegion.com/wp-content/uploads/2018/08/DINNER-and-A-SHOW_with-QUEENZ_MEE_legal_size.jpg
END:VEVENT
BEGIN:VEVENT
DTSTART;TZID=UTC:20180720T190000
DTEND;TZID=UTC:20180720T233000
DTSTAMP:20260420T003252
CREATED:20180707T002047Z
LAST-MODIFIED:20180707T002047Z
UID:2384-1532113200-1532129400@orillialegion.com
SUMMARY:Ceilidh\, July 20th
DESCRIPTION:Come to the Ceilidh\nFriday July 20th (doors open at 6:30) 7:00 Vimy Room Royal Canadian Legion Branch 34\nEnjoy Pipes and Drums\, Highland Dancers and some traditional Celtic music with the Celtic Group\nStringymajig\n  \nEnjoy a light lunch\, cash bar\, raffle and many laughs for only $15.00 per person\n 
URL:https://orillialegion.com/event/ceilidh-july-20th/
LOCATION:Vimy Lounge
ORGANIZER;CN="Orillia Scottish Festival":MAILTO:orilliascottishfestival@outlook.com
END:VEVENT
BEGIN:VEVENT
DTSTART;TZID=UTC:20180512T190000
DTEND;TZID=UTC:20180512T190000
DTSTAMP:20260420T003252
CREATED:20170621T232159Z
LAST-MODIFIED:20180503T185801Z
UID:1846-1526151600-1526151600@orillialegion.com
SUMMARY:Dr. Krane - Retiring Second Last Concert SOLD OUT
DESCRIPTION:Dr Krane is a live band from Ontario\, Canada.  The thing that makes DR KRANE unique is that they will play only the songs that you choose! The band will provide you with a songlist and you pick what you would like to hear at your event. \nLive music the way YOU want it! \nDoors open at 7pm. \n  \n  \n  \n 
URL:https://orillialegion.com/event/dr-krane-is-back/
LOCATION:Tri Service Room
ATTACH;FMTTYPE=image/jpeg:https://orillialegion.com/wp-content/uploads/2017/06/Dr_Krane_Suits1.jpg
END:VEVENT
BEGIN:VEVENT
DTSTART;TZID=UTC:20180427T190000
DTEND;TZID=UTC:20180427T230000
DTSTAMP:20260420T003252
CREATED:20180320T174601Z
LAST-MODIFIED:20180320T174601Z
UID:2288-1524855600-1524870000@orillialegion.com
SUMMARY:Girls Nite Out
DESCRIPTION:Girls Nite Out April 27\, 2018 \nDoors Open 7:00 p.m. \nBand Starts 8:00 p.m. \nTickets $5.00 in advance available at the bar.
URL:https://orillialegion.com/event/girls-nite-out/
END:VEVENT
BEGIN:VEVENT
DTSTART;TZID=UTC:20180425T000000
DTEND;TZID=UTC:20180425T235900
DTSTAMP:20260420T003252
CREATED:20180304T232142Z
LAST-MODIFIED:20180320T174336Z
UID:2272-1524614400-1524700740@orillialegion.com
SUMMARY:Bid Euchre Tournament - April 25\, 2018
DESCRIPTION:Wednesday April 25\, 2018 at Royal Canadian Legion Brach 34\nRegistration 10:00am \nPlay 10:30 am \nDoor Entry $10.00 \nGrand Prize $200.00 \nBring Finger Food for a Pot Luck Lunch \nEveryone Welcome \nFor more information please call  Theresa Bernard 705-259-0931
URL:https://orillialegion.com/event/bid-euchre-tournament-march-25-20148/
END:VEVENT
BEGIN:VEVENT
DTSTART;TZID=UTC:20180414T170000
DTEND;TZID=UTC:20180414T210000
DTSTAMP:20260420T003252
CREATED:20180407T001247Z
LAST-MODIFIED:20180407T001247Z
UID:2326-1523725200-1523739600@orillialegion.com
SUMMARY:Ladies Auxilliary 90th Anniversary Dinner
DESCRIPTION:Cocktails @ 5:00pm\nRoast Beef Dinner @ 6:00pm\nLadies Auxilliary Members and Guest
URL:https://orillialegion.com/event/ladies-auxilliary-90th-anniversary-dinner/
END:VEVENT
BEGIN:VEVENT
DTSTART;TZID=UTC:20180330T080000
DTEND;TZID=UTC:20180401T170000
DTSTAMP:20260420T003252
CREATED:20180110T020536Z
LAST-MODIFIED:20180110T020848Z
UID:2206-1522396800-1522602000@orillialegion.com
SUMMARY:Good Friday and Easter Sunday
DESCRIPTION:The Branch will be closed on Friday March 30 and Sunday April 1 for Easter
URL:https://orillialegion.com/event/good-friday-and-easter-sunday/
END:VEVENT
BEGIN:VEVENT
DTSTART;TZID=UTC:20180328T190000
DTEND;TZID=UTC:20180328T230000
DTSTAMP:20260420T003252
CREATED:20180320T174204Z
LAST-MODIFIED:20180320T174204Z
UID:2284-1522263600-1522278000@orillialegion.com
SUMMARY:Trivia Pub Night
DESCRIPTION:The Orillia Scottish Festival is hosting a Trivia Pub Night at the Orillia Legion’s Vimy Lounge on March 28th \nin support of the 41st Annual Orillia Scottish Festival. \nRegistration for the Trivia Pub Night is open to teams of four at a cost of $40.00 with the option to add up to \ntwo players for $10.00 per person (to a maximum of 6 players). \nDoors open at 7p.m. with the first question at 7:30p.m. \nCome and test your knowledge with 10 rounds of 10 questions.  to register email \norilliascottishfestival@outlook.com or call 705-327-2199 \nDoor prizes and bragging rights are up for grabs.
URL:https://orillialegion.com/event/trivia-pub-night/
LOCATION:Vimy Lounge
ORGANIZER;CN="Orillia Scottish Festival":MAILTO:orilliascottishfestival@outlook.com
END:VEVENT
BEGIN:VEVENT
DTSTART;TZID=UTC:20171216T140000
DTEND;TZID=UTC:20171216T170000
DTSTAMP:20260420T003252
CREATED:20171206T010332Z
LAST-MODIFIED:20171206T013000Z
UID:2136-1513432800-1513443600@orillialegion.com
SUMMARY:Christmas Turkey Shoot
DESCRIPTION:Don’t miss your chance to win a\nChristmas Turkey\n\n 
URL:https://orillialegion.com/event/christmas-turkey-shoot/
END:VEVENT
BEGIN:VEVENT
DTSTART;TZID=UTC:20170829T080000
DTEND;TZID=UTC:20170829T170000
DTSTAMP:20260420T003252
CREATED:20170829T220220Z
LAST-MODIFIED:20170829T220220Z
UID:1920-1503993600-1504026000@orillialegion.com
SUMMARY:New Years Eve Dance
DESCRIPTION:Sunday December 31\, 2017 \nDoors open at 7pm.  Dance starts at 8pm. \nLive music by “Crossfire” \nDetails to follow
URL:https://orillialegion.com/event/new-years-eve-dance/
END:VEVENT
END:VCALENDAR