BEGIN:VCALENDAR
VERSION:2.0
PRODID:-//Royal Canadian Legion - Branch 34 Orillia - ECPv6.15.17//NONSGML v1.0//EN
CALSCALE:GREGORIAN
METHOD:PUBLISH
X-ORIGINAL-URL:https://orillialegion.com
X-WR-CALDESC:Events for Royal Canadian Legion - Branch 34 Orillia
REFRESH-INTERVAL;VALUE=DURATION:PT1H
X-Robots-Tag:noindex
X-PUBLISHED-TTL:PT1H
BEGIN:VTIMEZONE
TZID:UTC
BEGIN:STANDARD
TZOFFSETFROM:+0000
TZOFFSETTO:+0000
TZNAME:UTC
DTSTART:20230101T000000
END:STANDARD
END:VTIMEZONE
BEGIN:VEVENT
DTSTART;TZID=UTC:20240316T190000
DTEND;TZID=UTC:20240316T233000
DTSTAMP:20260423T123918
CREATED:20240224T191652Z
LAST-MODIFIED:20240225T225348Z
UID:3752-1710615600-1710631800@orillialegion.com
SUMMARY:LONESTAR OASIS MARCH 16 2024
DESCRIPTION:  \n  \n  \nSaturday March 16th\, 2024\nDoors open at 7:00 PM\n  \n  \nRoyal Canadian Legion Branch 34\n215 Mississaga Street East\n325-8442\n  \n  \nMembers $7 Non-Members $10 \n  \nTickets available at the door
URL:https://orillialegion.com/event/lonestar-oasis-march-16-2024/
END:VEVENT
END:VCALENDAR