BEGIN:VCALENDAR
VERSION:2.0
PRODID:-//Royal Canadian Legion - Branch 34 Orillia - ECPv6.15.17//NONSGML v1.0//EN
CALSCALE:GREGORIAN
METHOD:PUBLISH
X-ORIGINAL-URL:https://orillialegion.com
X-WR-CALDESC:Events for Royal Canadian Legion - Branch 34 Orillia
REFRESH-INTERVAL;VALUE=DURATION:PT1H
X-Robots-Tag:noindex
X-PUBLISHED-TTL:PT1H
BEGIN:VTIMEZONE
TZID:UTC
BEGIN:STANDARD
TZOFFSETFROM:+0000
TZOFFSETTO:+0000
TZNAME:UTC
DTSTART:20230101T000000
END:STANDARD
END:VTIMEZONE
BEGIN:VEVENT
DTSTART;TZID=UTC:20240712T180000
DTEND;TZID=UTC:20240712T190000
DTSTAMP:20260423T062047
CREATED:20240621T215333Z
LAST-MODIFIED:20240621T215333Z
UID:3839-1720807200-1720810800@orillialegion.com
SUMMARY:STEAK BBQ JULY 12TH $21.00
DESCRIPTION:
URL:https://orillialegion.com/event/steak-bbq-july-12th-21-00/
END:VEVENT
BEGIN:VEVENT
DTSTART;TZID=UTC:20240719T190000
DTEND;TZID=UTC:20240719T220000
DTSTAMP:20260423T062047
CREATED:20240621T220123Z
LAST-MODIFIED:20240622T013258Z
UID:3844-1721415600-1721426400@orillialegion.com
SUMMARY:SCOTTISH FESTIVAL - CEILIDH FRIDAY JULY 19TH @ The Orillia Legion
DESCRIPTION:So excited to be announcing!\n\n\nCome join the Orillia Scottish Festival as we celebrate the 46th Annual Festival in the beautiful City of Orillia proudly sponsored by: Orillia Terriers Junior C Hockey Club and Turf Tech.\n\n\nMake plans and get tickets early for Friday July 19\, 2024 at the Orillia Legion Branch #34 as we kick-off this years festival in a grand fashion with the band Celtic Effect Band! There will be dancing\, jokes\, camaraderie\, and a light lunch for the evening to cap off day 1 of the Orillia Scottish Festival.\n\n\nWe are so pleased to once again be featuring beer from our friends at Quayle’s Brewery.\n\n\nThis will be an amazing evening as we kickstart our Festival with this enjoyable night.\n\n\nDoors 6:30pm Event 7pm\n\n\nTicket Link: https://orilliascottishfestival.ticketleap.com\n\n 
URL:https://orillialegion.com/event/scottish-festival-ceilidh-friday-july-19th/
ORGANIZER;CN="Orillia Scottish Festival":MAILTO:orilliascottishfestival@outlook.com
END:VEVENT
BEGIN:VEVENT
DTSTART;TZID=UTC:20240720T100000
DTEND;TZID=UTC:20240720T170000
DTSTAMP:20260423T062047
CREATED:20240621T220517Z
LAST-MODIFIED:20240622T013546Z
UID:3847-1721469600-1721494800@orillialegion.com
SUMMARY:SCOTTISH FESTIVAL -  COUCHICHING PARK JULY 20TH
DESCRIPTION:
URL:https://orillialegion.com/event/scottish-festival-parade-to-couchiching-park-july-20th/
END:VEVENT
BEGIN:VEVENT
DTSTART;TZID=UTC:20240726T180000
DTEND;TZID=UTC:20240726T190000
DTSTAMP:20260423T062047
CREATED:20240517T185511Z
LAST-MODIFIED:20240621T215520Z
UID:3823-1722016800-1722020400@orillialegion.com
SUMMARY:Steak BBQ July 26th Tickets $21.00
DESCRIPTION:
URL:https://orillialegion.com/event/steak-bbq-may-24th-2024/
END:VEVENT
BEGIN:VEVENT
DTSTART;TZID=UTC:20240727T180000
DTEND;TZID=UTC:20240727T233000
DTSTAMP:20260423T062047
CREATED:20230728T182249Z
LAST-MODIFIED:20240707T211455Z
UID:3669-1722103200-1722123000@orillialegion.com
SUMMARY:ELVIS - JULY 27\, 2024 TICKETS $25.00 DOORS OPEN AT 6:00PM
DESCRIPTION:
URL:https://orillialegion.com/event/elvis-august-12-2023/
END:VEVENT
END:VCALENDAR