BEGIN:VCALENDAR
VERSION:2.0
PRODID:-//Royal Canadian Legion - Branch 34 Orillia - ECPv6.15.17//NONSGML v1.0//EN
CALSCALE:GREGORIAN
METHOD:PUBLISH
X-WR-CALNAME:Royal Canadian Legion - Branch 34 Orillia
X-ORIGINAL-URL:https://orillialegion.com
X-WR-CALDESC:Events for Royal Canadian Legion - Branch 34 Orillia
REFRESH-INTERVAL;VALUE=DURATION:PT1H
X-Robots-Tag:noindex
X-PUBLISHED-TTL:PT1H
BEGIN:VTIMEZONE
TZID:UTC
BEGIN:STANDARD
TZOFFSETFROM:+0000
TZOFFSETTO:+0000
TZNAME:UTC
DTSTART:20230101T000000
END:STANDARD
END:VTIMEZONE
BEGIN:VEVENT
DTSTART;TZID=UTC:20240906T180000
DTEND;TZID=UTC:20240906T190000
DTSTAMP:20260421T055021
CREATED:20240621T221321Z
LAST-MODIFIED:20240621T221321Z
UID:3849-1725645600-1725649200@orillialegion.com
SUMMARY:STEAK BBQ SEPTEMBER 6TH $21.00
DESCRIPTION:
URL:https://orillialegion.com/event/steak-bbq-september-6th-21-00/
END:VEVENT
BEGIN:VEVENT
DTSTART;TZID=UTC:20240911T190000
DTEND;TZID=UTC:20240911T210000
DTSTAMP:20260421T055021
CREATED:20240621T221943Z
LAST-MODIFIED:20240621T221943Z
UID:3860-1726081200-1726088400@orillialegion.com
SUMMARY:GENERAL MEETING SEPTEMBER 11TH @ 7.00 pm
DESCRIPTION:
URL:https://orillialegion.com/event/general-meeting-september-11th-7-00-pm/
END:VEVENT
BEGIN:VEVENT
DTSTART;TZID=UTC:20240914T190000
DTEND;TZID=UTC:20240914T190000
DTSTAMP:20260421T055021
CREATED:20240621T221801Z
LAST-MODIFIED:20240621T221801Z
UID:3855-1726340400-1726340400@orillialegion.com
SUMMARY:BOB TAYLOR SATURDAY 14TH SEPTEMBER $7 Members $10 Non-Members
DESCRIPTION:
URL:https://orillialegion.com/event/bob-taylor-saturday-14th-september-7-members-10-non-members/
END:VEVENT
BEGIN:VEVENT
DTSTART;TZID=UTC:20240920T180000
DTEND;TZID=UTC:20240920T190000
DTSTAMP:20260421T055021
CREATED:20240621T221508Z
LAST-MODIFIED:20240621T221508Z
UID:3851-1726855200-1726858800@orillialegion.com
SUMMARY:STEAK BBQ SEPTEMBER 20TH $21.00 LAST ONE OF THE SEASON
DESCRIPTION:
URL:https://orillialegion.com/event/steak-bbq-september-20th-21-00-last-one-of-the-season/
END:VEVENT
END:VCALENDAR